BEGIN:VCALENDAR
VERSION:2.0
PRODID:-//CCG Laubuseschbach - ECPv6.15.15//NONSGML v1.0//EN
CALSCALE:GREGORIAN
METHOD:PUBLISH
X-ORIGINAL-URL:https://www.ccg-le.de
X-WR-CALDESC:Veranstaltungen für CCG Laubuseschbach
REFRESH-INTERVAL;VALUE=DURATION:PT1H
X-Robots-Tag:noindex
X-PUBLISHED-TTL:PT1H
BEGIN:VTIMEZONE
TZID:Europe/Berlin
BEGIN:DAYLIGHT
TZOFFSETFROM:+0100
TZOFFSETTO:+0200
TZNAME:CEST
DTSTART:20240331T010000
END:DAYLIGHT
BEGIN:STANDARD
TZOFFSETFROM:+0200
TZOFFSETTO:+0100
TZNAME:CET
DTSTART:20241027T010000
END:STANDARD
BEGIN:DAYLIGHT
TZOFFSETFROM:+0100
TZOFFSETTO:+0200
TZNAME:CEST
DTSTART:20250330T010000
END:DAYLIGHT
BEGIN:STANDARD
TZOFFSETFROM:+0200
TZOFFSETTO:+0100
TZNAME:CET
DTSTART:20251026T010000
END:STANDARD
BEGIN:DAYLIGHT
TZOFFSETFROM:+0100
TZOFFSETTO:+0200
TZNAME:CEST
DTSTART:20260329T010000
END:DAYLIGHT
BEGIN:STANDARD
TZOFFSETFROM:+0200
TZOFFSETTO:+0100
TZNAME:CET
DTSTART:20261025T010000
END:STANDARD
END:VTIMEZONE
BEGIN:VEVENT
DTSTART;TZID=Europe/Berlin:20251220T141100
DTEND;TZID=Europe/Berlin:20251220T151100
DTSTAMP:20260421T234635
CREATED:20250909T183951Z
LAST-MODIFIED:20250909T183951Z
UID:1047-1766239860-1766243460@www.ccg-le.de
SUMMARY:Kartenvorverkauf 2026
DESCRIPTION:
URL:https://www.ccg-le.de/event/kartenvorverkauf-2026/
LOCATION:Bürgerhaus Laubuseschbach\, Kirchgasse 5\, Laubuseschbach\, 35789\, Deutschland
END:VEVENT
END:VCALENDAR