BEGIN:VCALENDAR
VERSION:2.0
PRODID:-//CCG Laubuseschbach - ECPv6.15.15//NONSGML v1.0//EN
CALSCALE:GREGORIAN
METHOD:PUBLISH
X-ORIGINAL-URL:https://www.ccg-le.de
X-WR-CALDESC:Veranstaltungen für CCG Laubuseschbach
REFRESH-INTERVAL;VALUE=DURATION:PT1H
X-Robots-Tag:noindex
X-PUBLISHED-TTL:PT1H
BEGIN:VTIMEZONE
TZID:Europe/Berlin
BEGIN:DAYLIGHT
TZOFFSETFROM:+0100
TZOFFSETTO:+0200
TZNAME:CEST
DTSTART:20230326T010000
END:DAYLIGHT
BEGIN:STANDARD
TZOFFSETFROM:+0200
TZOFFSETTO:+0100
TZNAME:CET
DTSTART:20231029T010000
END:STANDARD
BEGIN:DAYLIGHT
TZOFFSETFROM:+0100
TZOFFSETTO:+0200
TZNAME:CEST
DTSTART:20240331T010000
END:DAYLIGHT
BEGIN:STANDARD
TZOFFSETFROM:+0200
TZOFFSETTO:+0100
TZNAME:CET
DTSTART:20241027T010000
END:STANDARD
BEGIN:DAYLIGHT
TZOFFSETFROM:+0100
TZOFFSETTO:+0200
TZNAME:CEST
DTSTART:20250330T010000
END:DAYLIGHT
BEGIN:STANDARD
TZOFFSETFROM:+0200
TZOFFSETTO:+0100
TZNAME:CET
DTSTART:20251026T010000
END:STANDARD
END:VTIMEZONE
BEGIN:VEVENT
DTSTART;TZID=Europe/Berlin:20240210T193100
DTEND;TZID=Europe/Berlin:20240210T235900
DTSTAMP:20260425T175901
CREATED:20230322T221703Z
LAST-MODIFIED:20230322T221703Z
UID:871-1707593460-1707609540@www.ccg-le.de
SUMMARY:2. Prunksitzung 2024
DESCRIPTION:
URL:https://www.ccg-le.de/event/2-prunksitzung-2024/
LOCATION:Bürgerhaus Laubuseschbach\, Kirchgasse 5\, Laubuseschbach\, 35789\, Deutschland
END:VEVENT
BEGIN:VEVENT
DTSTART;TZID=Europe/Berlin:20240212T141100
DTEND;TZID=Europe/Berlin:20240212T163000
DTSTAMP:20260425T175901
CREATED:20230322T221917Z
LAST-MODIFIED:20230322T221917Z
UID:874-1707747060-1707755400@www.ccg-le.de
SUMMARY:Kindersitzung 2024
DESCRIPTION:
URL:https://www.ccg-le.de/event/kindersitzung-2024/
LOCATION:Pizzeria Germania Laubuseschbach\, Laubusstraße 25\, Laubuseschbach\, 35789\, Deutschland
END:VEVENT
END:VCALENDAR