BEGIN:VCALENDAR
VERSION:2.0
PRODID:-//CCG Laubuseschbach - ECPv6.15.15//NONSGML v1.0//EN
CALSCALE:GREGORIAN
METHOD:PUBLISH
X-WR-CALNAME:CCG Laubuseschbach
X-ORIGINAL-URL:https://www.ccg-le.de
X-WR-CALDESC:Veranstaltungen für CCG Laubuseschbach
REFRESH-INTERVAL;VALUE=DURATION:PT1H
X-Robots-Tag:noindex
X-PUBLISHED-TTL:PT1H
BEGIN:VTIMEZONE
TZID:Europe/Berlin
BEGIN:DAYLIGHT
TZOFFSETFROM:+0100
TZOFFSETTO:+0200
TZNAME:CEST
DTSTART:20250330T010000
END:DAYLIGHT
BEGIN:STANDARD
TZOFFSETFROM:+0200
TZOFFSETTO:+0100
TZNAME:CET
DTSTART:20251026T010000
END:STANDARD
BEGIN:DAYLIGHT
TZOFFSETFROM:+0100
TZOFFSETTO:+0200
TZNAME:CEST
DTSTART:20260329T010000
END:DAYLIGHT
BEGIN:STANDARD
TZOFFSETFROM:+0200
TZOFFSETTO:+0100
TZNAME:CET
DTSTART:20261025T010000
END:STANDARD
BEGIN:DAYLIGHT
TZOFFSETFROM:+0100
TZOFFSETTO:+0200
TZNAME:CEST
DTSTART:20270328T010000
END:DAYLIGHT
BEGIN:STANDARD
TZOFFSETFROM:+0200
TZOFFSETTO:+0100
TZNAME:CET
DTSTART:20271031T010000
END:STANDARD
END:VTIMEZONE
BEGIN:VEVENT
DTSTART;TZID=Europe/Berlin:20260131T193100
DTEND;TZID=Europe/Berlin:20260131T235900
DTSTAMP:20260421T163814
CREATED:20250909T182916Z
LAST-MODIFIED:20250909T184153Z
UID:1037-1769887860-1769903940@www.ccg-le.de
SUMMARY:1. Prunksitzung 2026
DESCRIPTION:
URL:https://www.ccg-le.de/event/1-prunksitzung-2026/
LOCATION:Bürgerhaus Laubuseschbach\, Kirchgasse 5\, Laubuseschbach\, 35789\, Deutschland
END:VEVENT
END:VCALENDAR